BEGIN:VCALENDAR
VERSION:2.0
PRODID:-//bonasoft.pl//NONSGML Plusy i minusy korzystania z urządzeń ekranowych i internetu//EN
CALSCALE:GREGORIAN
METHOD:PUBLISH
BEGIN:VEVENT
UID:20260425T121918-1798552866uid
DISTAMP:20260425T121918
DTSTART:20260504T080000Z
DTEND:20260504T090000Z
LOCATION: Biblioteka Pedagogiczna im. Heleny Radlińskiej w Siedlcach Filia w Mińsku Mazowieckim
SUMMARY:Plusy i minusy korzystania z urządzeń ekranowych i internetu
DESCRIPTION:
END:VEVENT
END:VCALENDAR
