BEGIN:VCALENDAR
VERSION:2.0
PRODID:-//bonasoft.pl//NONSGML Jak działa mój mózg?//EN
CALSCALE:GREGORIAN
METHOD:PUBLISH
BEGIN:VEVENT
UID:20260425T121918-1539200208uid
DISTAMP:20260425T121918
DTSTART:20260427T080000Z
DTEND:20260427T090000Z
LOCATION: Biblioteka Pedagogiczna im. Heleny Radlińskiej w Siedlcach Filia w Mińsku Mazowieckim
SUMMARY:Jak działa mój mózg?
DESCRIPTION:
END:VEVENT
END:VCALENDAR
