BEGIN:VCALENDAR
VERSION:2.0
PRODID:-//bonasoft.pl//NONSGML Zasady korzystania z nowych technologii//EN
CALSCALE:GREGORIAN
METHOD:PUBLISH
BEGIN:VEVENT
UID:20260421T083059-954307635uid
DISTAMP:20260421T083059
DTSTART:20260430T053000Z
DTEND:20260430T103000Z
LOCATION:Szkoła Podstawowa w Wiśniewie
SUMMARY:Zasady korzystania z nowych technologii
DESCRIPTION:
END:VEVENT
END:VCALENDAR
