BEGIN:VCALENDAR
VERSION:2.0
PRODID:-//bonasoft.pl//NONSGML Siła i tajemnica żywiołu – Ziemia//EN
CALSCALE:GREGORIAN
METHOD:PUBLISH
BEGIN:VEVENT
UID:20260421T095938-2057968230uid
DISTAMP:20260421T095938
DTSTART:20260429T090000Z
DTEND:20260429T110000Z
LOCATION:Biblioteka Pedagogiczna im. Heleny Radlińskiej w Siedlcach Filia w Mińsku Mazowieckim
SUMMARY:Siła i tajemnica żywiołu – Ziemia
DESCRIPTION:
END:VEVENT
END:VCALENDAR
