BEGIN:VCALENDAR
VERSION:2.0
PRODID:-//bonasoft.pl//NONSGML Światowy Dzień Książki i Praw Autorskich//EN
CALSCALE:GREGORIAN
METHOD:PUBLISH
BEGIN:VEVENT
UID:20260421T083022-2027070091uid
DISTAMP:20260421T083022
DTSTART:20260423T053000Z
DTEND:20260423T070000Z
LOCATION:Szkoła Podstawowa w Wiśniewie
SUMMARY:Światowy Dzień Książki i Praw Autorskich
DESCRIPTION:
END:VEVENT
END:VCALENDAR
