BEGIN:VCALENDAR
VERSION:2.0
PRODID:-//bonasoft.pl//NONSGML Magiczne książki//EN
CALSCALE:GREGORIAN
METHOD:PUBLISH
BEGIN:VEVENT
UID:20260421T084127-1083601723uid
DISTAMP:20260421T084127
DTSTART:20260416T061500Z
DTEND:20260416T074500Z
LOCATION:Szkoła Podstawowa w Mistowie
SUMMARY:Magiczne książki
DESCRIPTION:
END:VEVENT
END:VCALENDAR
