BEGIN:VCALENDAR
VERSION:2.0
PRODID:-//bonasoft.pl//NONSGML Smok Wawelski//EN
CALSCALE:GREGORIAN
METHOD:PUBLISH
BEGIN:VEVENT
UID:20260421T093929-1097547323uid
DISTAMP:20260421T093929
DTSTART:20260415T110000Z
DTEND:20260415T123000Z
LOCATION: Biblioteka Pedagogiczna w Siedlcach, Filia w Mińsku Mazowieckim
SUMMARY:Smok Wawelski
DESCRIPTION:
END:VEVENT
END:VCALENDAR
