BEGIN:VCALENDAR
VERSION:2.0
PRODID:-//bonasoft.pl//NONSGML Wystawa ,,Śladami Anny Natorff – artystyczna   podróż przez pokolenia”//EN
CALSCALE:GREGORIAN
METHOD:PUBLISH
BEGIN:VEVENT
UID:20260421T110634-304181870uid
DISTAMP:20260421T110634
DTSTART:20260115T070000Z
DTEND:20260317T120000Z
LOCATION:Biblioteka Pedagogiczna im. H. Radlińskiej w Siedlcach Filia w Mińsku Mazowieckim
SUMMARY:Wystawa ,,Śladami Anny Natorff – artystyczna   podróż przez pokolenia”
DESCRIPTION:Wystawa prac mieszkańców Internatu Liceum Sztuk Plastycznych w Mińsku Maz. -  Galeria (II piętro)
END:VEVENT
END:VCALENDAR
