BEGIN:VCALENDAR
VERSION:2.0
PRODID:-//bonasoft.pl//NONSGML XIV Powiatowy Konkurs Pięknego Czytania//EN
CALSCALE:GREGORIAN
METHOD:PUBLISH
BEGIN:VEVENT
UID:20260422T154600-310687594uid
DISTAMP:20260422T154600
DTSTART:20251104T080000Z
DTEND:20251105T120000Z
LOCATION:Biblioteka Pedagogiczna im. Heleny Radlińskiej w Siedlcach Filia w Mińsku Mazowieckim
SUMMARY:XIV Powiatowy Konkurs Pięknego Czytania
DESCRIPTION:
END:VEVENT
END:VCALENDAR
