BEGIN:VCALENDAR
VERSION:2.0
PRODID:-//bonasoft.pl//NONSGML Bajka o Wiśle//EN
CALSCALE:GREGORIAN
METHOD:PUBLISH
BEGIN:VEVENT
UID:20260422T082136-677110614uid
DISTAMP:20260422T082136
DTSTART:20250618T080000Z
DTEND:20250618T093000Z
LOCATION:Biblioteka Pedagogiczna im. Heleny Radlińskiej w Siedlcach. Filia w Mińsku Mazowieckim
SUMMARY:Bajka o Wiśle
DESCRIPTION:
END:VEVENT
END:VCALENDAR
