BEGIN:VCALENDAR
VERSION:2.0
PRODID:-//bonasoft.pl//NONSGML Emocje//EN
CALSCALE:GREGORIAN
METHOD:PUBLISH
BEGIN:VEVENT
UID:20260421T122005-463284834uid
DISTAMP:20260421T122005
DTSTART:20240411T080000Z
DTEND:20240411T090000Z
LOCATION:Biblioteka Pedagogiczna im. H. Radlińskiej w Siedlcach, Filia w Mińsku Mazowieckim
SUMMARY:Emocje
DESCRIPTION:zajęcia w bibliotece
END:VEVENT
END:VCALENDAR
