BEGIN:VCALENDAR
VERSION:2.0
PRODID:-//bonasoft.pl//NONSGML Zajęcia w bibliotece//EN
CALSCALE:GREGORIAN
METHOD:PUBLISH
BEGIN:VEVENT
UID:20260421T110552-8203627uid
DISTAMP:20260421T110552
DTSTART:20240408T080000Z
DTEND:20240408T090000Z
LOCATION:Biblioteka Pedagogiczna im. H. Radlińskiej w Siedlcach, Filia w Mińsku Mazowieckim
SUMMARY:Zajęcia w bibliotece
DESCRIPTION:Zajęcia
END:VEVENT
END:VCALENDAR
