BEGIN:VCALENDAR
VERSION:2.0
PRODID:-//bonasoft.pl//NONSGML Zajęcia w bibliotece//EN
CALSCALE:GREGORIAN
METHOD:PUBLISH
BEGIN:VEVENT
UID:20260421T110553-244224242uid
DISTAMP:20260421T110553
DTSTART:20240404T083000Z
DTEND:20240404T093000Z
LOCATION:Biblioteka Pedagogiczna im. H. Radlińskiej w Siedlcach, Filia w Mińsku Mazowieckim
SUMMARY:Zajęcia w bibliotece
DESCRIPTION:Lekcja biblioteczna dla uczniów
END:VEVENT
END:VCALENDAR
