BEGIN:VCALENDAR
VERSION:2.0
PRODID:-//bonasoft.pl//NONSGML Zajęcia w bibliotece//EN
CALSCALE:GREGORIAN
METHOD:PUBLISH
BEGIN:VEVENT
UID:20260421T122151-626705451uid
DISTAMP:20260421T122151
DTSTART:20240403T085000Z
DTEND:20240403T100000Z
LOCATION:Biblioteka Pedagogiczna im. H. Radlińskiej w Siedlcach, Filia w Mińsku Mazowieckim
SUMMARY:Zajęcia w bibliotece
DESCRIPTION:Zajęcia dla dzieci z Klubu Malucha
END:VEVENT
END:VCALENDAR
