BEGIN:VCALENDAR
VERSION:2.0
PRODID:-//bonasoft.pl//NONSGML Wystawa grafiki//EN
CALSCALE:GREGORIAN
METHOD:PUBLISH
BEGIN:VEVENT
UID:20260421T121542-46669894uid
DISTAMP:20260421T121542
DTSTART:20240313T103000Z
DTEND:20240613T160000Z
LOCATION:Biblioteka Pedagogiczna im. H. Radlińskiej w Siedlcach, Filia w Mińsku Mazowieckim
SUMMARY:Wystawa grafiki
DESCRIPTION:Wystawa linorytów - prac uczniów z Liceum Sztuk Plastycznych z klasy 3p oraz prac archiwalnych. 
END:VEVENT
END:VCALENDAR
