BEGIN:VCALENDAR
VERSION:2.0
PRODID:-//bonasoft.pl//NONSGML Szkolenie: Bezpieczne wirtualne podwórko.//EN
CALSCALE:GREGORIAN
METHOD:PUBLISH
BEGIN:VEVENT
UID:20260421T110622-463255890uid
DISTAMP:20260421T110622
DTSTART:20240228T103000Z
DTEND:20240228T130000Z
LOCATION:Biblioteka Pedagogiczna w Mińsku Mazowieckim
SUMMARY:Szkolenie: Bezpieczne wirtualne podwórko.
DESCRIPTION:szkolenie
END:VEVENT
END:VCALENDAR
