BEGIN:VCALENDAR
VERSION:2.0
PRODID:-//bonasoft.pl//NONSGML Jak się uczyć?//EN
CALSCALE:GREGORIAN
METHOD:PUBLISH
BEGIN:VEVENT
UID:20260421T122103-1906806643uid
DISTAMP:20260421T122103
DTSTART:20240206T110000Z
DTEND:20240206T123000Z
LOCATION:Biblioteka Pedagogiczna w Mińsku Mazowieckim
SUMMARY:Jak się uczyć?
DESCRIPTION:Warsztaty
END:VEVENT
END:VCALENDAR
