BEGIN:VCALENDAR
VERSION:2.0
PRODID:-//bonasoft.pl//NONSGML Samarytanie z Markowej//EN
CALSCALE:GREGORIAN
METHOD:PUBLISH
BEGIN:VEVENT
UID:20260421T110656-1268464997uid
DISTAMP:20260421T110656
DTSTART:20240205T090000Z
DTEND:20240205T100000Z
LOCATION:Biblioteka Pedagogiczna w Mińsku Mazowieckim
SUMMARY:Samarytanie z Markowej
DESCRIPTION:Lekcja
END:VEVENT
END:VCALENDAR
