BEGIN:VCALENDAR
VERSION:2.0
PRODID:-//bonasoft.pl//NONSGML Wystawa „Samarytanie z Markowej”//EN
CALSCALE:GREGORIAN
METHOD:PUBLISH
BEGIN:VEVENT
UID:20260421T110622-905411888uid
DISTAMP:20260421T110622
DTSTART:20240108T073000Z
DTEND:20240226T170000Z
LOCATION:Biblioteka Pedagogiczna im. Heleny Radlińskiej w Siedlcach. Filia w Mińsku Mazowieckim
SUMMARY:Wystawa „Samarytanie z Markowej”
DESCRIPTION:Otwarcie wystawy 8 stycznia, godz. 8.30 w Czytelni Biblioteki Pedagogicznej (II piętro).
END:VEVENT
END:VCALENDAR
